BEGIN:VCALENDAR
VERSION:2.0
PRODID:-//Oregon 250 - ECPv6.15.20//NONSGML v1.0//EN
CALSCALE:GREGORIAN
METHOD:PUBLISH
X-ORIGINAL-URL:https://www.oregon250.org
X-WR-CALDESC:Events for Oregon 250
REFRESH-INTERVAL;VALUE=DURATION:PT1H
X-Robots-Tag:noindex
X-PUBLISHED-TTL:PT1H
BEGIN:VTIMEZONE
TZID:America/Los_Angeles
BEGIN:DAYLIGHT
TZOFFSETFROM:-0800
TZOFFSETTO:-0700
TZNAME:PDT
DTSTART:20250309T100000
END:DAYLIGHT
BEGIN:STANDARD
TZOFFSETFROM:-0700
TZOFFSETTO:-0800
TZNAME:PST
DTSTART:20251102T090000
END:STANDARD
BEGIN:DAYLIGHT
TZOFFSETFROM:-0800
TZOFFSETTO:-0700
TZNAME:PDT
DTSTART:20260308T100000
END:DAYLIGHT
BEGIN:STANDARD
TZOFFSETFROM:-0700
TZOFFSETTO:-0800
TZNAME:PST
DTSTART:20261101T090000
END:STANDARD
BEGIN:DAYLIGHT
TZOFFSETFROM:-0800
TZOFFSETTO:-0700
TZNAME:PDT
DTSTART:20270314T100000
END:DAYLIGHT
BEGIN:STANDARD
TZOFFSETFROM:-0700
TZOFFSETTO:-0800
TZNAME:PST
DTSTART:20271107T090000
END:STANDARD
END:VTIMEZONE
BEGIN:VEVENT
DTSTART;TZID=America/Los_Angeles:20260425T103000
DTEND;TZID=America/Los_Angeles:20260425T113000
DTSTAMP:20260423T053051
CREATED:20260331T004026Z
LAST-MODIFIED:20260331T004026Z
UID:10000880-1777113000-1777116600@www.oregon250.org
SUMMARY:American Revolution Patriot Marker Dedication - Newberg
DESCRIPTION:The Champoeg Chapter\, National Society Daughters of the American Revolution (NSDAR) will place an official NSDAR American Revolution Patriot Marker and commemorative stone near the Veterans Memorial at Memorial Park in Newberg. \nThis monument will stand as a beacon of remembrance for generations to come\, connecting the revolutionary past to the present fabric of our community. The marker will not only honor the spirit of 1776 but also serve as a tangible link to the patriots of the American Revolution and a place for reflection and gratitude for the freedoms we enjoy today. \nEvent Accessibility: \n\nWheelchair-accessible venue\nAccessible parking\nService animals welcome
URL:https://www.oregon250.org/event/american-revolution-patriot-marker-dedication-newberg/
LOCATION:Memorial Park Newberg\, 411 S Howard Street\, Newberg\, 97132\, United States
ATTACH;FMTTYPE=image/webp:https://www.oregon250.org/wp-content/uploads/2026/03/image-1-1-e1774917587968.webp
ORGANIZER;CN="Champoeg Chapter NSDAR":MAILTO:rootbeerjan@aol.com
END:VEVENT
END:VCALENDAR