BEGIN:VCALENDAR
VERSION:2.0
PRODID:-//Oregon 250 - ECPv6.15.20//NONSGML v1.0//EN
CALSCALE:GREGORIAN
METHOD:PUBLISH
X-WR-CALNAME:Oregon 250
X-ORIGINAL-URL:https://www.oregon250.org
X-WR-CALDESC:Events for Oregon 250
REFRESH-INTERVAL;VALUE=DURATION:PT1H
X-Robots-Tag:noindex
X-PUBLISHED-TTL:PT1H
BEGIN:VTIMEZONE
TZID:America/Los_Angeles
BEGIN:DAYLIGHT
TZOFFSETFROM:-0800
TZOFFSETTO:-0700
TZNAME:PDT
DTSTART:20250309T100000
END:DAYLIGHT
BEGIN:STANDARD
TZOFFSETFROM:-0700
TZOFFSETTO:-0800
TZNAME:PST
DTSTART:20251102T090000
END:STANDARD
BEGIN:DAYLIGHT
TZOFFSETFROM:-0800
TZOFFSETTO:-0700
TZNAME:PDT
DTSTART:20260308T100000
END:DAYLIGHT
BEGIN:STANDARD
TZOFFSETFROM:-0700
TZOFFSETTO:-0800
TZNAME:PST
DTSTART:20261101T090000
END:STANDARD
BEGIN:DAYLIGHT
TZOFFSETFROM:-0800
TZOFFSETTO:-0700
TZNAME:PDT
DTSTART:20270314T100000
END:DAYLIGHT
BEGIN:STANDARD
TZOFFSETFROM:-0700
TZOFFSETTO:-0800
TZNAME:PST
DTSTART:20271107T090000
END:STANDARD
END:VTIMEZONE
BEGIN:VEVENT
DTSTART;TZID=America/Los_Angeles:20260415T183000
DTEND;TZID=America/Los_Angeles:20260415T203000
DTSTAMP:20260421T094643
CREATED:20260304T184636Z
LAST-MODIFIED:20260304T193408Z
UID:10000856-1776277800-1776285000@www.oregon250.org
SUMMARY:250 in the West: Public Lands with Leisl Carr Childers
DESCRIPTION:Public lands are a tangible aspect of life in the American West. What are the origins of public lands and how have debates over their use shaped the West? Historian\, author and associate professor at Colorado State University Leisl Carr Childers will discuss the history of public lands from the American Revolution to today. \nDoors open at 6pm\, program begins at 6:30pm. \nAbout 250 in the West \n2026 marks the 250th anniversary of the signing of the Declaration of Independence. What does this document and the formation of the United States mean for us who live and work in the American West? 250 in the West\, a new programmatic series at the High Desert Museum\, explores the legacies of the 250th in the American West\, from public lands to citizenship and sovereignty.
URL:https://www.oregon250.org/event/250-in-the-west-public-lands-with-leisl-carr-childers/
LOCATION:High Desert Museum\, 59800 S Hwy 97\, Bend\, OR\, 97702\, United States
ATTACH;FMTTYPE=image/png:https://www.oregon250.org/wp-content/uploads/2026/03/250West-3-LeislChilders-Apr15-1-e1772650529811.png
GEO:43.9660671;-121.3414619
X-APPLE-STRUCTURED-LOCATION;VALUE=URI;X-ADDRESS=High Desert Museum 59800 S Hwy 97 Bend OR 97702 United States;X-APPLE-RADIUS=500;X-TITLE=59800 S Hwy 97:geo:-121.3414619,43.9660671
END:VEVENT
END:VCALENDAR