BEGIN:VCALENDAR
VERSION:2.0
PRODID:-//Oregon 250 - ECPv6.15.20//NONSGML v1.0//EN
CALSCALE:GREGORIAN
METHOD:PUBLISH
X-ORIGINAL-URL:https://www.oregon250.org
X-WR-CALDESC:Events for Oregon 250
REFRESH-INTERVAL;VALUE=DURATION:PT1H
X-Robots-Tag:noindex
X-PUBLISHED-TTL:PT1H
BEGIN:VTIMEZONE
TZID:America/Los_Angeles
BEGIN:DAYLIGHT
TZOFFSETFROM:-0800
TZOFFSETTO:-0700
TZNAME:PDT
DTSTART:20250309T100000
END:DAYLIGHT
BEGIN:STANDARD
TZOFFSETFROM:-0700
TZOFFSETTO:-0800
TZNAME:PST
DTSTART:20251102T090000
END:STANDARD
BEGIN:DAYLIGHT
TZOFFSETFROM:-0800
TZOFFSETTO:-0700
TZNAME:PDT
DTSTART:20260308T100000
END:DAYLIGHT
BEGIN:STANDARD
TZOFFSETFROM:-0700
TZOFFSETTO:-0800
TZNAME:PST
DTSTART:20261101T090000
END:STANDARD
BEGIN:DAYLIGHT
TZOFFSETFROM:-0800
TZOFFSETTO:-0700
TZNAME:PDT
DTSTART:20270314T100000
END:DAYLIGHT
BEGIN:STANDARD
TZOFFSETFROM:-0700
TZOFFSETTO:-0800
TZNAME:PST
DTSTART:20271107T090000
END:STANDARD
END:VTIMEZONE
BEGIN:VEVENT
DTSTART;TZID=America/Los_Angeles:20260704T110000
DTEND;TZID=America/Los_Angeles:20260704T223000
DTSTAMP:20260421T023131
CREATED:20260219T180744Z
LAST-MODIFIED:20260219T180744Z
UID:10000852-1783162800-1783204200@www.oregon250.org
SUMMARY:Mt. Angel Chamber of Commerce July 4th Ceremonies
DESCRIPTION:The Mt. Angel Chamber of Commerce presents a full day of festivities beginning at 11am with an old fashioned parade starting at JFK High School. The fireworks celebration will kick off at 8pm with the Marion County Citizens Band performing an array of classic pieces. GiggleBritches the clown will be providing balloon twisting for the kids and the Mt. Angel Knights of Columbus will be offering food and desserts. Come enjoy this free family celebration! \nEvent Accessibility: \n\nWheelchair-accessible venue\nAccessible parking\nService animals welcome
URL:https://www.oregon250.org/event/mt-angel-chamber-of-commerce-july-4th-ceremonies/
LOCATION:John F. Kennedy High School\, 890 E Marquam Street\, Mt. Angel\, OR\, 97362\, United States
ATTACH;FMTTYPE=image/jpeg:https://www.oregon250.org/wp-content/uploads/2026/02/070426-Mt.-Angel.jpg
END:VEVENT
END:VCALENDAR