BEGIN:VCALENDAR
VERSION:2.0
PRODID:-//Oregon 250 - ECPv6.15.20//NONSGML v1.0//EN
CALSCALE:GREGORIAN
METHOD:PUBLISH
X-WR-CALNAME:Oregon 250
X-ORIGINAL-URL:https://www.oregon250.org
X-WR-CALDESC:Events for Oregon 250
REFRESH-INTERVAL;VALUE=DURATION:PT1H
X-Robots-Tag:noindex
X-PUBLISHED-TTL:PT1H
BEGIN:VTIMEZONE
TZID:America/Los_Angeles
BEGIN:DAYLIGHT
TZOFFSETFROM:-0800
TZOFFSETTO:-0700
TZNAME:PDT
DTSTART:20240310T100000
END:DAYLIGHT
BEGIN:STANDARD
TZOFFSETFROM:-0700
TZOFFSETTO:-0800
TZNAME:PST
DTSTART:20241103T090000
END:STANDARD
BEGIN:DAYLIGHT
TZOFFSETFROM:-0800
TZOFFSETTO:-0700
TZNAME:PDT
DTSTART:20250309T100000
END:DAYLIGHT
BEGIN:STANDARD
TZOFFSETFROM:-0700
TZOFFSETTO:-0800
TZNAME:PST
DTSTART:20251102T090000
END:STANDARD
BEGIN:DAYLIGHT
TZOFFSETFROM:-0800
TZOFFSETTO:-0700
TZNAME:PDT
DTSTART:20260308T100000
END:DAYLIGHT
BEGIN:STANDARD
TZOFFSETFROM:-0700
TZOFFSETTO:-0800
TZNAME:PST
DTSTART:20261101T090000
END:STANDARD
END:VTIMEZONE
BEGIN:VEVENT
DTSTART;VALUE=DATE:20250418
DTEND;VALUE=DATE:20250419
DTSTAMP:20260420T062647
CREATED:20250409T195930Z
LAST-MODIFIED:20250409T195930Z
UID:10000008-1744934400-1745020799@www.oregon250.org
SUMMARY:Two Lights for Tomorrow
DESCRIPTION:On the night of April 18\, 1775\, Paul Revere\, William Dawes\, and others rode to Lexington\, Massachusetts\, warning minutemen and households about the approach of British forces. Behind him\, lanterns in the steeple of the Old North Church were shining the agreed upon code made famous by poet Henry Wadsworth Longfellow\, “One if by land\, and two if by sea.” The next day\, April 19\, were the battles of Lexington and Concord — and the colonists were well prepared. \nAs part of the nationwide commemoration of the 250th anniversary of the signing of the Declaration of Independence\, the America 250 Oregon Commission joins semiquincentennial commissions across the country in Two Lights for Tomorrow\, a multi-state initiative that reminds citizens everywhere that our shared history is grounded in coming together to build a more perfect union. \nOregonians are called to participate by shining two lights on April 18\, 2025\, in their homes and community spaces.
URL:https://www.oregon250.org/event/two-lights-for-tomorrow/
LOCATION:Various Locations
ATTACH;FMTTYPE=image/png:https://www.oregon250.org/wp-content/uploads/2025/04/041825-Two-Lights_cropped.png
END:VEVENT
END:VCALENDAR