BEGIN:VCALENDAR
VERSION:2.0
PRODID:-//Oregon 250 - ECPv6.15.20//NONSGML v1.0//EN
CALSCALE:GREGORIAN
METHOD:PUBLISH
X-ORIGINAL-URL:https://www.oregon250.org
X-WR-CALDESC:Events for Oregon 250
REFRESH-INTERVAL;VALUE=DURATION:PT1H
X-Robots-Tag:noindex
X-PUBLISHED-TTL:PT1H
BEGIN:VTIMEZONE
TZID:America/Los_Angeles
BEGIN:DAYLIGHT
TZOFFSETFROM:-0800
TZOFFSETTO:-0700
TZNAME:PDT
DTSTART:20250309T100000
END:DAYLIGHT
BEGIN:STANDARD
TZOFFSETFROM:-0700
TZOFFSETTO:-0800
TZNAME:PST
DTSTART:20251102T090000
END:STANDARD
BEGIN:DAYLIGHT
TZOFFSETFROM:-0800
TZOFFSETTO:-0700
TZNAME:PDT
DTSTART:20260308T100000
END:DAYLIGHT
BEGIN:STANDARD
TZOFFSETFROM:-0700
TZOFFSETTO:-0800
TZNAME:PST
DTSTART:20261101T090000
END:STANDARD
BEGIN:DAYLIGHT
TZOFFSETFROM:-0800
TZOFFSETTO:-0700
TZNAME:PDT
DTSTART:20270314T100000
END:DAYLIGHT
BEGIN:STANDARD
TZOFFSETFROM:-0700
TZOFFSETTO:-0800
TZNAME:PST
DTSTART:20271107T090000
END:STANDARD
END:VTIMEZONE
BEGIN:VEVENT
DTSTART;TZID=America/Los_Angeles:20260614T160000
DTEND;TZID=America/Los_Angeles:20260614T180000
DTSTAMP:20260423T064100
CREATED:20260422T033338Z
LAST-MODIFIED:20260422T033338Z
UID:10000904-1781452800-1781460000@www.oregon250.org
SUMMARY:Flag Retirement Ceremony
DESCRIPTION:Join the Western Antique Aeroplane & Automobile Museum (WAAAM) on June 14 for a respectful Flag Retirement Ceremony in honor of Flag Day. This meaningful event provides the community with a dignified way to properly retire worn or unserviceable American flags. The ceremony will be conducted in accordance with traditional protocols and reflects the values of service\, remembrance\, and civic pride. \nSponsored jointly by the Hood River branches of the American Legion\, the Veterans of Foreign Wars\, and the Elks Club\, this event brings the community together in shared respect for our nation’s symbol. Everyone is welcome\, and attendees are invited to bring their own flags for retirement. \nEvent Accessibility: \n\nAccessible parking
URL:https://www.oregon250.org/event/flag-retirement-ceremony/
LOCATION:Western Antique Aeroplane and Automobile Museum\, 1600 Air Museum Road\, Hood River\, 97031\, United States
ATTACH;FMTTYPE=image/png:https://www.oregon250.org/wp-content/uploads/2026/04/Flag-Day-1-e1776828805553.png
ORGANIZER;CN="Western Antique Aeroplane & Automobile Museum":MAILTO:events@waaamuseum.org
END:VEVENT
END:VCALENDAR