BEGIN:VCALENDAR
VERSION:2.0
PRODID:-//Oregon 250 - ECPv6.15.20//NONSGML v1.0//EN
CALSCALE:GREGORIAN
METHOD:PUBLISH
X-WR-CALNAME:Oregon 250
X-ORIGINAL-URL:https://www.oregon250.org
X-WR-CALDESC:Events for Oregon 250
REFRESH-INTERVAL;VALUE=DURATION:PT1H
X-Robots-Tag:noindex
X-PUBLISHED-TTL:PT1H
BEGIN:VTIMEZONE
TZID:America/Los_Angeles
BEGIN:DAYLIGHT
TZOFFSETFROM:-0800
TZOFFSETTO:-0700
TZNAME:PDT
DTSTART:20250309T100000
END:DAYLIGHT
BEGIN:STANDARD
TZOFFSETFROM:-0700
TZOFFSETTO:-0800
TZNAME:PST
DTSTART:20251102T090000
END:STANDARD
BEGIN:DAYLIGHT
TZOFFSETFROM:-0800
TZOFFSETTO:-0700
TZNAME:PDT
DTSTART:20260308T100000
END:DAYLIGHT
BEGIN:STANDARD
TZOFFSETFROM:-0700
TZOFFSETTO:-0800
TZNAME:PST
DTSTART:20261101T090000
END:STANDARD
BEGIN:DAYLIGHT
TZOFFSETFROM:-0800
TZOFFSETTO:-0700
TZNAME:PDT
DTSTART:20270314T100000
END:DAYLIGHT
BEGIN:STANDARD
TZOFFSETFROM:-0700
TZOFFSETTO:-0800
TZNAME:PST
DTSTART:20271107T090000
END:STANDARD
END:VTIMEZONE
BEGIN:VEVENT
DTSTART;TZID=America/Los_Angeles:20260718T110000
DTEND;TZID=America/Los_Angeles:20260718T160000
DTSTAMP:20260421T094631
CREATED:20260331T003300Z
LAST-MODIFIED:20260331T003300Z
UID:10000879-1784372400-1784390400@www.oregon250.org
SUMMARY:Astoria Column Centennial Celebration
DESCRIPTION:The iconic Astoria Column\, one of the Pacific Northwest’s most recognizable landmarks\, will celebrate its centennial in July 2026\, marking 100 years since its dedication in 1926. \nCompleted in 1926\, the Astoria Column was inspired by Rome’s Trajan Column and built to commemorate the pioneering spirit of the Pacific Northwest and the founding of Astoria — the oldest permanent United States settlement west of the Rocky Mountains. \nThe 125-foot Column depicts pivotal moments in regional history\, from Native American heritage to the Lewis and Clark Expedition. \nCentennial activities are scheduled for July 18 and include a multicultural celebration with community groups showcasing Astoria’s heritage\, present and future. Enjoy multicultural entertainment and food\, community booths\, arts and crafts\, and live music. \nEvent Accessibility: \n\nWheelchair-accessible venue\nAccessible parking\nService animals welcome
URL:https://www.oregon250.org/event/astoria-column-centennial-celebration/
LOCATION:Heritage Square Parking Lot\, 12th and Duane Street\, Astoria\, United States
ATTACH;FMTTYPE=image/png:https://www.oregon250.org/wp-content/uploads/2026/03/AC100-image-1-e1774917172904.png
ORGANIZER;CN="Friends of Astoria Column":MAILTO:liz@lizkayco.com
END:VEVENT
END:VCALENDAR