BEGIN:VCALENDAR
VERSION:2.0
PRODID:-//Oregon 250 - ECPv6.15.20//NONSGML v1.0//EN
CALSCALE:GREGORIAN
METHOD:PUBLISH
X-WR-CALNAME:Oregon 250
X-ORIGINAL-URL:https://www.oregon250.org
X-WR-CALDESC:Events for Oregon 250
REFRESH-INTERVAL;VALUE=DURATION:PT1H
X-Robots-Tag:noindex
X-PUBLISHED-TTL:PT1H
BEGIN:VTIMEZONE
TZID:America/Los_Angeles
BEGIN:DAYLIGHT
TZOFFSETFROM:-0800
TZOFFSETTO:-0700
TZNAME:PDT
DTSTART:20250309T100000
END:DAYLIGHT
BEGIN:STANDARD
TZOFFSETFROM:-0700
TZOFFSETTO:-0800
TZNAME:PST
DTSTART:20251102T090000
END:STANDARD
BEGIN:DAYLIGHT
TZOFFSETFROM:-0800
TZOFFSETTO:-0700
TZNAME:PDT
DTSTART:20260308T100000
END:DAYLIGHT
BEGIN:STANDARD
TZOFFSETFROM:-0700
TZOFFSETTO:-0800
TZNAME:PST
DTSTART:20261101T090000
END:STANDARD
BEGIN:DAYLIGHT
TZOFFSETFROM:-0800
TZOFFSETTO:-0700
TZNAME:PDT
DTSTART:20270314T100000
END:DAYLIGHT
BEGIN:STANDARD
TZOFFSETFROM:-0700
TZOFFSETTO:-0800
TZNAME:PST
DTSTART:20271107T090000
END:STANDARD
END:VTIMEZONE
BEGIN:VEVENT
DTSTART;TZID=America/Los_Angeles:20260430T103000
DTEND;TZID=America/Los_Angeles:20260430T233000
DTSTAMP:20260423T064720
CREATED:20260422T032612Z
LAST-MODIFIED:20260422T032612Z
UID:10000902-1777545000-1777591800@www.oregon250.org
SUMMARY:Lecture: The American Revolution – An Enduring Paradox
DESCRIPTION:Join historian William G. Robbins for a lecture on The American Revolution – An Enduring Paradox on April 30\, 2026. He will explore the ideals and contradictions in the Declaration of Independence as we contemplate the 250th anniversary of the signing of this important document. \nThomas Jefferson wrote in the Declaration of Independence that “all men are created equal\,” but in 1776 this ideal did not apply to many groups\, including enslaved people\, women\, and Native Americans. Abraham Lincoln later argued the phrase was meant as a future goal\, while the document itself mainly justified independence by listing grievances against King George III. Despite its powerful ideals\, the Declaration included contradictions—such as its treatment of Native Americans—and its promise of equality remains something the United States continues striving to achieve. \nEvent Accessibility: \n\nWheelchair-accessible venue\nAccessible parking\nService animals welcome\nSensory-friendly accommodations\n\n 
URL:https://www.oregon250.org/event/lecture-the-american-revolution-an-enduring-paradox/
LOCATION:The Corvallis Museum\, 411 SW 2nd St\, Corvallis\, 97333\, United States
ATTACH;FMTTYPE=image/jpeg:https://www.oregon250.org/wp-content/uploads/2026/04/Header_LECTURE-American-Revolution-e1776828366385.jpg
ORGANIZER;CN="Benton County Historical Society":MAILTO:anya@bentoncountymuseums.org
END:VEVENT
END:VCALENDAR